BEGIN:VCALENDAR
VERSION:2.0
PRODID:-//Dumfries Gamers - ECPv6.15.13//NONSGML v1.0//EN
CALSCALE:GREGORIAN
METHOD:PUBLISH
X-WR-CALNAME:Dumfries Gamers
X-ORIGINAL-URL:https://dumfriesgamers.uk
X-WR-CALDESC:Events for Dumfries Gamers
REFRESH-INTERVAL;VALUE=DURATION:PT1H
X-Robots-Tag:noindex
X-PUBLISHED-TTL:PT1H
BEGIN:VTIMEZONE
TZID:UTC
BEGIN:STANDARD
TZOFFSETFROM:+0000
TZOFFSETTO:+0000
TZNAME:UTC
DTSTART:20240101T000000
END:STANDARD
END:VTIMEZONE
BEGIN:VEVENT
DTSTART;TZID=UTC:20251213T090000
DTEND;TZID=UTC:20251213T180000
DTSTAMP:20260420T160811
CREATED:20250728T225500Z
LAST-MODIFIED:20250930T130507Z
UID:205-1765616400-1765648800@dumfriesgamers.uk
SUMMARY:Twin Realms: AoS & Old World Tournament
DESCRIPTION:Proudly Sponsored by The Hobby Shop \n \nThis December\, Dumfries Gamers is bringing you something truly special — a celebration of both the Mortal Realms and the World-That-Was! \nWe’re running two tournaments side by side:\n• 🛡️ 10-player Age of Sigmar RTT\n• ⚔ 10-player The Old World RTT \nIt’s a perfect chance to roll dice in your preferred game system while enjoying the buzzing festival atmosphere of our final big event of the year. \nAnd that’s not all…\nWe’re launching the first-ever Brushoffs Painting Competition! 🖌️ \nJoin us as we celebrate the old and the new of Warhammer fantasy in style — epic games\, beautiful armies\, great company\, and all for a good cause.
URL:https://dumfriesgamers.uk/event/aos-old-world-solos-rtt/
LOCATION:Locharbriggs Village Hall\, A701\, Locharbriggs\, Dumfries\, Dumfries & Galloway\, DG1 1QE\, United Kingdom
CATEGORIES:RTT
ATTACH;FMTTYPE=image/png:https://dumfriesgamers.uk/wp-content/uploads/2025/07/Twin-Realms.png
END:VEVENT
END:VCALENDAR