BEGIN:VCALENDAR
VERSION:2.0
PRODID:-//Dumfries Gamers - ECPv6.15.13//NONSGML v1.0//EN
CALSCALE:GREGORIAN
METHOD:PUBLISH
X-WR-CALNAME:Dumfries Gamers
X-ORIGINAL-URL:https://dumfriesgamers.uk
X-WR-CALDESC:Events for Dumfries Gamers
REFRESH-INTERVAL;VALUE=DURATION:PT1H
X-Robots-Tag:noindex
X-PUBLISHED-TTL:PT1H
BEGIN:VTIMEZONE
TZID:UTC
BEGIN:STANDARD
TZOFFSETFROM:+0000
TZOFFSETTO:+0000
TZNAME:UTC
DTSTART:20240101T000000
END:STANDARD
END:VTIMEZONE
BEGIN:VEVENT
DTSTART;TZID=UTC:20251003T180000
DTEND;TZID=UTC:20251003T220000
DTSTAMP:20260420T192434
CREATED:20250930T125811Z
LAST-MODIFIED:20250930T130216Z
UID:477-1759514400-1759528800@dumfriesgamers.uk
SUMMARY:Games Pantry: Magic Commander Night
DESCRIPTION:This Week in The Games Pantry! \nThis Friday 3rd October\, we’re kicking things off with Magic The Gathering Commander Night! \nWhether you’re a seasoned planeswalker or brand new to the multiverse\, you’re welcome to join in. New players are especially encouraged — decks can be provided\, and friendly guidance is on hand to help you learn the ropes. \nOnly rule? Sleeved cards\, of course — because snacks will be served! \nCrumbs and cards don’t mix\, but treats and good company sure do. All this under the care of Craig our MtG Game Champion. \nSo grab a seat at the table\, draw your opening hand\, and let’s make it a night of great games\, great vibes\, and great snacks!
URL:https://dumfriesgamers.uk/event/games-pantry-magic-commander-night/
LOCATION:Locharbriggs Village Hall\, A701\, Locharbriggs\, Dumfries\, Dumfries & Galloway\, DG1 1QE\, United Kingdom
CATEGORIES:Games Pantry
ATTACH;FMTTYPE=image/png:https://dumfriesgamers.uk/wp-content/uploads/2025/08/Magic-The-Gathering-logo-1-1.png
END:VEVENT
END:VCALENDAR