BEGIN:VCALENDAR
VERSION:2.0
PRODID:-//Dumfries Gamers - ECPv6.15.13//NONSGML v1.0//EN
CALSCALE:GREGORIAN
METHOD:PUBLISH
X-ORIGINAL-URL:https://dumfriesgamers.uk
X-WR-CALDESC:Events for Dumfries Gamers
REFRESH-INTERVAL;VALUE=DURATION:PT1H
X-Robots-Tag:noindex
X-PUBLISHED-TTL:PT1H
BEGIN:VTIMEZONE
TZID:UTC
BEGIN:STANDARD
TZOFFSETFROM:+0000
TZOFFSETTO:+0000
TZNAME:UTC
DTSTART:20240101T000000
END:STANDARD
END:VTIMEZONE
BEGIN:VEVENT
DTSTART;TZID=UTC:20250920T000000
DTEND;TZID=UTC:20250921T235959
DTSTAMP:20260420T161814
CREATED:20250728T211921Z
LAST-MODIFIED:20250930T130457Z
UID:149-1758326400-1758499199@dumfriesgamers.uk
SUMMARY:Doonhamer Open
DESCRIPTION:The Doonhamer Open is a community focussed event created by Reaper Wargaming\, Saltire Games and Dumfries Gamers\,20th/21st September \nThis is a 5 round Warhammer 40k event with top cut. \nLimited Edition tickets purchases come with a wide variety of merch including coins\, tokens and more \nAll tickets are inclusive of a £5 booking/admin fee. \nRefund Policy\nAll sales are final\, tickets to this event are NON REFUNDABLE. (with the exception of specific circumstances e.g. event cancellation please note there is a £5 admin fee included in the price) \nHowever If you are unable to attend the Doonhamer Open we will have a ticket buy back system in place closer to the time of the event. \nThis will come with administration fee of £10 \nFinally we reserve the right to refuse entry to any person who is deemed to be at risk of causing harm to the event its staff or attendees anyone refused entry or asked to leave the event will not receive any form of refund. \nAll enquires can be directed to the contact us page
URL:https://dumfriesgamers.uk/event/doonhamer-open/
LOCATION:Loreburn Hall\, Newall Terrace\, Dumfries\, Dumfries & Galloway\, DG1 1LN\, United Kingdom
CATEGORIES:GT
ATTACH;FMTTYPE=image/png:https://dumfriesgamers.uk/wp-content/uploads/2025/07/Doomhamer-Wide.png
END:VEVENT
END:VCALENDAR