BEGIN:VCALENDAR
VERSION:2.0
PRODID:-//Dumfries Gamers - ECPv6.15.13//NONSGML v1.0//EN
CALSCALE:GREGORIAN
METHOD:PUBLISH
X-ORIGINAL-URL:https://dumfriesgamers.uk
X-WR-CALDESC:Events for Dumfries Gamers
REFRESH-INTERVAL;VALUE=DURATION:PT1H
X-Robots-Tag:noindex
X-PUBLISHED-TTL:PT1H
BEGIN:VTIMEZONE
TZID:UTC
BEGIN:STANDARD
TZOFFSETFROM:+0000
TZOFFSETTO:+0000
TZNAME:UTC
DTSTART:20250101T000000
END:STANDARD
END:VTIMEZONE
BEGIN:VEVENT
DTSTART;TZID=UTC:20260228T090000
DTEND;TZID=UTC:20260228T200000
DTSTAMP:20260420T101254
CREATED:20260106T135936Z
LAST-MODIFIED:20260106T135936Z
UID:498-1772269200-1772308800@dumfriesgamers.uk
SUMMARY:Escape from Staminus
DESCRIPTION:The war for Staminius is far from over…\nJoin us for Part Two of our ongoing 40K narrative arc — the sequel to last year’s epic event\, The Staminiis Reckoning. This time\, it’s all about the desperate retreat\, last stands\, and daring escapes in: \nEscape from Staminius\n🎯 What to Expect: \n• A full day of casual\, story-driven games\n• Suitable for veterans and new players alike\n• Expanding the lore of our club-created war-torn world\n• Missions with twists\, thematic pairings\, and cinematic moments\n• Fun over form — bring the army you love and play for the story \n💷 Details: \n🗓️ Saturday 21st February 2026\n🕘 9:00 AM – 5:00 PM\n📍 Locharbriggs Village Hall\n💰 £20 per ticket (includes venue\, prizes etc) \nPlease drop a comment below if you’re interested and I’ll get a list of names drafted! 🤗
URL:https://dumfriesgamers.uk/event/escape-from-staminus/
LOCATION:Locharbriggs Village Hall\, A701\, Locharbriggs\, Dumfries\, Dumfries & Galloway\, DG1 1QE\, United Kingdom
END:VEVENT
BEGIN:VEVENT
DTSTART;TZID=UTC:20260404T090000
DTEND;TZID=UTC:20260404T180000
DTSTAMP:20260420T101254
CREATED:20260106T140205Z
LAST-MODIFIED:20260106T140205Z
UID:500-1775293200-1775325600@dumfriesgamers.uk
SUMMARY:Doonhammer Bowl I
DESCRIPTION:We would like to announce Doonhammer Bowl I. \nA Blood Bowl tournament to raise money for the Scottish Blood Bike Charity. \nTickets are £15 for NAF members and £20 for non NAF members.\nPlease see link to rules pack
URL:https://dumfriesgamers.uk/event/doonhammer-bowl-i/
LOCATION:Locharbriggs Village Hall\, A701\, Locharbriggs\, Dumfries\, Dumfries & Galloway\, DG1 1QE\, United Kingdom
END:VEVENT
END:VCALENDAR