BEGIN:VCALENDAR
VERSION:2.0
PRODID:-//Dumfries Gamers - ECPv6.15.13//NONSGML v1.0//EN
CALSCALE:GREGORIAN
METHOD:PUBLISH
X-WR-CALNAME:Dumfries Gamers
X-ORIGINAL-URL:https://dumfriesgamers.uk
X-WR-CALDESC:Events for Dumfries Gamers
REFRESH-INTERVAL;VALUE=DURATION:PT1H
X-Robots-Tag:noindex
X-PUBLISHED-TTL:PT1H
BEGIN:VTIMEZONE
TZID:UTC
BEGIN:STANDARD
TZOFFSETFROM:+0000
TZOFFSETTO:+0000
TZNAME:UTC
DTSTART:20240101T000000
END:STANDARD
END:VTIMEZONE
BEGIN:VEVENT
DTSTART;TZID=UTC:20250816T000000
DTEND;TZID=UTC:20250817T235959
DTSTAMP:20260420T111637
CREATED:20250728T220859Z
LAST-MODIFIED:20250930T130603Z
UID:189-1755302400-1755475199@dumfriesgamers.uk
SUMMARY:Warzone Heresy Scotland - The Canticle Wars: Fire of Elmghast - Horus Heresy  Narrative weekend
DESCRIPTION:Welcome back! \nThe release of Horus Heresy 3rd edition is a really exciting time for all enthusiasts of the 30th Millennium\, including the team at Warzone Heresy as it presents new narrative gaming opportunities in this setting. \nHowever\, the new edition came as a little bit of a surprise when it dropped this summer\, and as such the release has upset our event planning just a tad!\nNow the first thing to reassure attendees is that Warzone Heresy are absolutely running an event in October 2025 — but there are going to be a few tweaks and changes to the planned weekend. \nThe team have thought long and hard over the last few weeks about what to do\, and how we can use the new edition to improve event attendee experience.\nAfter a long process we have settled on running the event in a Centurion stylee. \nThis means that players shouldn’t have to change too much of their armies going forward\, with only a marginal point increase to 1850pts. \nTickets will include 5 core missions across both days with the usual spooky EO (Graham +/- Space Wasps) versus player side missions. \nWe will shortly be publishing our ‘List Building Guidelines’ for the event\, but in shortform\, we see this as a small ‘platoon level’ action\, so no Primarchs etc! \nTickets are £60 and include lunch both days as well as goodybags and our usual lush prizes. \n18 places available\, 9 Traitor and 9 Loyalist. \nTickets go on sale on the 1st of August 2025 at 9am. Please leave a comment on the ticket sale post (will go active at 0900 that date) with your name and army/allegiance) \nLoyalists\nMurray Wilson – Iron Hands (P)\nThomas Jeeves – Blood Angels (P)\nDavid Thomson – Imperial Fists (P)\nChris Paton – Solar Auxilia (P)\nSam Voke – Death Guard (P)\nCameron Melville – Ultramarines/Mech (P)\nFinn Schafer – White Scars (P)\nThomas Gardiner – Dark Angels (N.P) \nTraitors\nMatthew Broadbent – White Scars (P)\nChris Connor – Death Guard (P)\nAlex Collins – Dark Mechanicum (P)\nJohn-Luke Treadgold – Word Bearers (P)\nCraig Warren – Dark Mechanicum (P)\nLloyd Mitchell – World Eaters (P)\nCallum Dickie – Emperors Children (P)\nPhil Miller – Iron Warriors (P) \nReserves:
URL:https://dumfriesgamers.uk/event/warzone-heresy-scotland-the-canticle-wars-fire-of-elmghast-horus-heresy-narrative-weekend/
LOCATION:Locharbriggs Village Hall\, A701\, Locharbriggs\, Dumfries\, Dumfries & Galloway\, DG1 1QE\, United Kingdom
CATEGORIES:Narrative
ATTACH;FMTTYPE=image/png:https://dumfriesgamers.uk/wp-content/uploads/2025/07/Plundering-Wide-1.png
END:VEVENT
END:VCALENDAR